BEGIN:VCALENDAR
VERSION:2.0
PRODID:icalendar-ruby
CALSCALE:GREGORIAN
METHOD:PUBLISH
BEGIN:VEVENT
DTSTAMP:20260423T013424Z
UID:24-443089@apostleschurch.org
DTSTART:20261102T003000Z
DTEND:20261102T013000Z
CLASS:PUBLIC
CREATED:20260422T182201
DESCRIPTION:
LAST-MODIFIED:20260422T182201
LOCATION:Fremont Abbey
SUMMARY:Weekly Sunday Service
URL;VALUE=URI:https://www.apostleschurch.org/events/weekly-sunday-service/2
 026-11-01
END:VEVENT
END:VCALENDAR
