BEGIN:VCALENDAR
VERSION:2.0
PRODID:icalendar-ruby
CALSCALE:GREGORIAN
METHOD:PUBLISH
BEGIN:VEVENT
DTSTAMP:20260422T204011Z
UID:24-442642@apostleschurch.org
DTSTART:20261011T233000Z
DTEND:20261012T003000Z
CLASS:PUBLIC
CREATED:20260422T123555
DESCRIPTION:
LAST-MODIFIED:20260422T123555
LOCATION:Fremont Abbey
SUMMARY:Weekly Sunday Service
URL;VALUE=URI:https://www.apostleschurch.org/events/weekly-sunday-service/2
 026-10-11
END:VEVENT
END:VCALENDAR
