BEGIN:VCALENDAR
VERSION:2.0
PRODID:icalendar-ruby
CALSCALE:GREGORIAN
METHOD:PUBLISH
BEGIN:VEVENT
DTSTAMP:20260422T143751Z
UID:24-442194@apostleschurch.org
DTSTART:20260913T233000Z
DTEND:20260914T003000Z
CLASS:PUBLIC
CREATED:20260422T064539
DESCRIPTION:
LAST-MODIFIED:20260422T064539
LOCATION:Fremont Abbey
SUMMARY:Weekly Sunday Service
URL;VALUE=URI:https://www.apostleschurch.org/events/weekly-sunday-service/2
 026-09-13
END:VEVENT
END:VCALENDAR
